BEGIN:VCALENDAR
VERSION:2.0
PRODID:-//childcarerockland.org//NONSGML kigkonsult.se iCalcreator 2.30.10/
 /
CALSCALE:GREGORIAN
METHOD:PUBLISH
UID:546f873f-a929-4322-a8fc-e38528d0c3d8
X-WR-CALDESC:Join us for The Art of the Journey: Embracing Process Over Pro
 duct\, a hands-on training session focused on the role of art in early chi
 ldhood development. In this session\, educators will explore how prioritiz
 ing the creative process-rather than the final artwork-can nurture creativ
 ity\, critical thinking\, problem-solving\, and a love of exploration in y
 oung children. You'll gain insights into how to create art experiences tha
 t encourage young learners to engage\, experiment\, and express themselves
  freely\, fostering a deeper connection to both the process and the joy of
  creation. \n\nTarget Audience: PS\, FG\, LE\nTrainer: Jessica Malas\nOCFS
 : 3\nCBK: 4\nCDA: E\, G\nFee: $20 members/ $75 non-members\nRegister by ca
 lling (845) 425-0009 x0.\n\nPayment is required upon registration and a co
 nfirmation of payment will be emailed to you. A reimbursement check will b
 e issued after completion of the class.
X-WR-RELCALID:42e73e4f3072ea072bf85f9c547b3fbc
X-WR-TIMEZONE:America/New_York
BEGIN:VTIMEZONE
TZID:America/New_York
BEGIN:STANDARD
TZNAME:EST
DTSTART:20241103T020000
TZOFFSETFROM:-0400
TZOFFSETTO:-0500
RDATE:20251102T020000
RDATE:20261101T020000
END:STANDARD
BEGIN:DAYLIGHT
TZNAME:EDT
DTSTART:20250309T020000
TZOFFSETFROM:-0500
TZOFFSETTO:-0400
RDATE:20260308T020000
END:DAYLIGHT
END:VTIMEZONE
BEGIN:VEVENT
UID:c4604879-8118-43c6-bb1e-fbec409593fa
DTSTAMP:20260421T175419Z
DESCRIPTION:Join us for The Art of the Journey: Embracing Process Over Prod
 uct\, a hands-on training session focused on the role of art in early chil
 dhood development. In this session\, educators will explore how prioritizi
 ng the creative process-rather than the final artwork-can nurture creativi
 ty\, critical thinking\, problem-solving\, and a love of exploration in yo
 ung children. You'll gain insights into how to create art experiences that
  encourage young learners to engage\, experiment\, and express themselves 
 freely\, fostering a deeper connection to both the process and the joy of 
 creation. \n\nTarget Audience: PS\, FG\, LE\nTrainer: Jessica Malas\nOCFS:
  3\nCBK: 4\nCDA: E\, G\nFee: $20 members/ $75 non-members\nRegister by cal
 ling (845) 425-0009 x0.\n\nPayment is required upon registration and a con
 firmation of payment will be emailed to you. A reimbursement check will be
  issued after completion of the class.
DTSTART;TZID=America/New_York:20250722T183000
DTEND;TZID=America/New_York:20250722T203000
LOCATION:40 Ramland Road\, Suite 209\, Orangeburg\, NY 10962 US
SUMMARY:The Art of the Journey: Embracing Process Art over Product Art in E
 arly Childhood
END:VEVENT
END:VCALENDAR
