BEGIN:VCALENDAR
VERSION:2.0
PRODID:-//childcarerockland.org//NONSGML kigkonsult.se iCalcreator 2.30.10/
 /
CALSCALE:GREGORIAN
METHOD:PUBLISH
UID:dcc229c8-a210-46a1-97da-1f8986453639
X-WR-CALDESC:This training will help participants identify different strate
 gies on how to maintain competent supervision and develop different ways o
 f ensuring the safety of the children while transitioning to different act
 ivities throughout the day. \n\nTarget Audience: D\, FG\, PS\, IT\, SA\, L
 E\nTrainer: Shakia Reynolds \nOCFS: 3\, 4\, 7\nCBK: 4\, 7\nCDA: A\, L\nFee
 : $20 members/ $75 non-members\nRegister by calling (845) 425-0009 x0.\n\n
 Payment is required upon registration and a confirmation of payment will b
 e emailed to you. A reimbursement check will be issued after completion of
  the class.
X-WR-RELCALID:995b6fff4d4814e517dca2d9132646e9
X-WR-TIMEZONE:America/New_York
BEGIN:VTIMEZONE
TZID:America/New_York
BEGIN:STANDARD
TZNAME:EST
DTSTART:20241103T020000
TZOFFSETFROM:-0400
TZOFFSETTO:-0500
RDATE:20251102T020000
RDATE:20261101T020000
END:STANDARD
BEGIN:DAYLIGHT
TZNAME:EDT
DTSTART:20250309T020000
TZOFFSETFROM:-0500
TZOFFSETTO:-0400
RDATE:20260308T020000
END:DAYLIGHT
END:VTIMEZONE
BEGIN:VEVENT
UID:085dd288-800c-4831-be59-11ba156f33fc
DTSTAMP:20260421T175020Z
DESCRIPTION:This training will help participants identify different strateg
 ies on how to maintain competent supervision and develop different ways of
  ensuring the safety of the children while transitioning to different acti
 vities throughout the day. \n\nTarget Audience: D\, FG\, PS\, IT\, SA\, LE
 \nTrainer: Shakia Reynolds \nOCFS: 3\, 4\, 7\nCBK: 4\, 7\nCDA: A\, L\nFee:
  $20 members/ $75 non-members\nRegister by calling (845) 425-0009 x0.\n\nP
 ayment is required upon registration and a confirmation of payment will be
  emailed to you. A reimbursement check will be issued after completion of 
 the class.
DTSTART;TZID=America/New_York:20250717T183000
DTEND;TZID=America/New_York:20250717T203000
LOCATION:40 Ramland Road\, Suite 209\, Orangeburg\, NY 10962 US
SUMMARY:Don't Get Lost in Transitioning! How to Maintain Competent Supervis
 ion
END:VEVENT
END:VCALENDAR
