BEGIN:VCALENDAR
VERSION:2.0
PRODID:-//childcarerockland.org//NONSGML kigkonsult.se iCalcreator 2.30.10/
 /
CALSCALE:GREGORIAN
METHOD:PUBLISH
UID:9935ee8d-a15a-4356-9afd-73f15f8e878e
X-WR-CALDESC:Have you considered raising your tuition rates but aren't sure
  where to start? How much should I increase it? How will I notify families
  of the increase? Come join CCRR's Business Support Specialist Allison Woj
 ciechowski and learn more about how to approach this sensitive subject. \n
 \nTarget Audience: FG\, D\nTrainer: Allison Wojciechowski \nComponent Area
 s:\nOCFS: 3\, 5\nCBK: 6\, 7\nCDA: L\, M\nFee: Free\n\n*Once registered\, t
 he Zoom link will be emailed to you.
X-WR-RELCALID:7fdb21ede86cc959248ced82a075ae99
X-WR-TIMEZONE:America/New_York
BEGIN:VTIMEZONE
TZID:America/New_York
BEGIN:STANDARD
TZNAME:EST
DTSTART:20241103T020000
TZOFFSETFROM:-0400
TZOFFSETTO:-0500
RDATE:20251102T020000
RDATE:20261101T020000
END:STANDARD
BEGIN:DAYLIGHT
TZNAME:EDT
DTSTART:20250309T020000
TZOFFSETFROM:-0500
TZOFFSETTO:-0400
RDATE:20260308T020000
END:DAYLIGHT
END:VTIMEZONE
BEGIN:VEVENT
UID:b2c7c8e6-2c1b-4309-bf57-6c2ac2268654
DTSTAMP:20260421T175543Z
DESCRIPTION:Have you considered raising your tuition rates but aren't sure 
 where to start? How much should I increase it? How will I notify families 
 of the increase? Come join CCRR's Business Support Specialist Allison Wojc
 iechowski and learn more about how to approach this sensitive subject. \n
 \nTarget Audience: FG\, D\nTrainer: Allison Wojciechowski \nComponent Area
 s:\nOCFS: 3\, 5\nCBK: 6\, 7\nCDA: L\, M\nFee: Free\n\n*Once registered\, t
 he Zoom link will be emailed to you.
DTSTART;TZID=America/New_York:20250714T180000
DTEND;TZID=America/New_York:20250714T190000
LOCATION:via Zoom
SUMMARY:Tuition Rates: Is it Time to Increase and How do I do That?
END:VEVENT
END:VCALENDAR
