BEGIN:VCALENDAR
VERSION:2.0
PRODID:-//childcarerockland.org//NONSGML kigkonsult.se iCalcreator 2.30.10/
 /
CALSCALE:GREGORIAN
METHOD:PUBLISH
UID:e8242c29-f682-4a75-9a04-08d31b30fb74
X-WR-CALDESC:Increasing proactive strategies in childcare settings promotes
  positive behavior in children. Establishing clear expectations\, creating
  predictable routines\, actively teaching social skills\, and providing po
 sitive reinforcement helps children understand what is expected of them. F
 urthermore\, it encourages them to make good choices and minimizes the nee
 d for reactive interventions to manage negative behavior. \n\nTarget Audie
 nce: FG\, SA\, PS\, T\nTrainer: Jill Halpern \nOCFS: 1\, 3\nCBK: 1\, 4\nCD
 A: A\, C\nFee: $20 members/ $75 non-members\nRegister by calling (845) 425
 -0009 x0.\n\nPayment is required upon registration and a confirmation of p
 ayment will be emailed to you. A reimbursement check will be issued after 
 completion of the class.
X-WR-RELCALID:6c38d868ea1a4f32be7976b4c226e408
X-WR-TIMEZONE:America/New_York
BEGIN:VTIMEZONE
TZID:America/New_York
BEGIN:STANDARD
TZNAME:EST
DTSTART:20241103T020000
TZOFFSETFROM:-0400
TZOFFSETTO:-0500
RDATE:20251102T020000
RDATE:20261101T020000
END:STANDARD
BEGIN:DAYLIGHT
TZNAME:EDT
DTSTART:20250309T020000
TZOFFSETFROM:-0500
TZOFFSETTO:-0400
RDATE:20260308T020000
END:DAYLIGHT
END:VTIMEZONE
BEGIN:VEVENT
UID:8e16d3c8-f3e0-4008-a328-7d0b63cc0a12
DTSTAMP:20260421T174923Z
DESCRIPTION:Increasing proactive strategies in childcare settings promotes 
 positive behavior in children. Establishing clear expectations\, creating 
 predictable routines\, actively teaching social skills\, and providing pos
 itive reinforcement helps children understand what is expected of them. Fu
 rthermore\, it encourages them to make good choices and minimizes the need
  for reactive interventions to manage negative behavior. \n\nTarget Audien
 ce: FG\, SA\, PS\, T\nTrainer: Jill Halpern \nOCFS: 1\, 3\nCBK: 1\, 4\nCDA
 : A\, C\nFee: $20 members/ $75 non-members\nRegister by calling (845) 425-
 0009 x0.\n\nPayment is required upon registration and a confirmation of pa
 yment will be emailed to you. A reimbursement check will be issued after c
 ompletion of the class.
DTSTART;TZID=America/New_York:20250709T183000
DTEND;TZID=America/New_York:20250709T203000
LOCATION:40 Ramland Road\, Suite 209\, Orangeburg\, NY 10962 US
SUMMARY:Why do They Act That Way? How Increasing Proactive Strategies in a 
 Childcare Setting Can Promote Positive Behavior
END:VEVENT
END:VCALENDAR
