BEGIN:VCALENDAR
VERSION:2.0
PRODID:-//childcarerockland.org//NONSGML kigkonsult.se iCalcreator 2.30.10/
 /
CALSCALE:GREGORIAN
METHOD:PUBLISH
UID:b0624476-34c6-4c69-bbc6-0f29b1ce470a
X-WR-CALDESC:In observance of Independence Day.
X-WR-RELCALID:530c1528bbb9e31b0fd55a46e16908a9
X-WR-TIMEZONE:America/New_York
BEGIN:VTIMEZONE
TZID:America/New_York
BEGIN:STANDARD
TZNAME:EST
DTSTART:20241103T020000
TZOFFSETFROM:-0400
TZOFFSETTO:-0500
RDATE:20251102T020000
RDATE:20261101T020000
END:STANDARD
BEGIN:DAYLIGHT
TZNAME:EDT
DTSTART:20250309T020000
TZOFFSETFROM:-0500
TZOFFSETTO:-0400
RDATE:20260308T020000
END:DAYLIGHT
END:VTIMEZONE
BEGIN:VEVENT
UID:bed4ca1b-772e-4014-87a1-34dc43501278
DTSTAMP:20260421T175140Z
DESCRIPTION:In observance of Independence Day.
DTSTART;TZID=America/New_York:20250704T083000
DTEND;TZID=America/New_York:20250704T170000
LOCATION:40 Ramland Road\, Suite 209\, Orangeburg\, NY 10962 US
SUMMARY:CCRR Office Closed
END:VEVENT
END:VCALENDAR
