BEGIN:VCALENDAR
VERSION:2.0
PRODID:-//childcarerockland.org//NONSGML kigkonsult.se iCalcreator 2.30.10/
 /
CALSCALE:GREGORIAN
METHOD:PUBLISH
UID:fb9b5d4c-cc69-4a7f-bf3e-4d03927e1ec3
X-WR-CALDESC:NYS OCFS regulations for all modalities require that every pro
 gram have a person certified in CPR and First Aid on-site at all times. Ce
 rtification is valid for 2 years. As per ARC policy\, we are unable to adm
 it anyone into the class once it has begun. Please be on time! Limited to 
 5 participants. Eligible for EIP Funding.\nPlease note: Community CPR and 
 the Community First Aid\, as a bundle\, are offered together and completed
  in one session. AED training is included.\n\nTarget Audience: All\nTraine
 r: Christie Cinquemani\nOCFS: 4\nFee: $150 members/ $200 non-members\nRegi
 ster by calling (845) 425-0009 x0.\n\nPayment is required upon registratio
 n and a confirmation of payment will be emailed to you. A reimbursement ch
 eck will be issued after completion of the class.
X-WR-RELCALID:d3a5af60941df9a83e796544743d5d68
X-WR-TIMEZONE:America/New_York
BEGIN:VTIMEZONE
TZID:America/New_York
BEGIN:STANDARD
TZNAME:EST
DTSTART:20241103T020000
TZOFFSETFROM:-0400
TZOFFSETTO:-0500
RDATE:20251102T020000
RDATE:20261101T020000
END:STANDARD
BEGIN:DAYLIGHT
TZNAME:EDT
DTSTART:20250309T020000
TZOFFSETFROM:-0500
TZOFFSETTO:-0400
RDATE:20260308T020000
END:DAYLIGHT
END:VTIMEZONE
BEGIN:VEVENT
UID:06415296-519a-4bcb-8f9f-c0baeba6d717
DTSTAMP:20260421T191421Z
DESCRIPTION:NYS OCFS regulations for all modalities require that every prog
 ram have a person certified in CPR and First Aid on-site at all times. Cer
 tification is valid for 2 years. As per ARC policy\, we are unable to admi
 t anyone into the class once it has begun. Please be on time! Limited to 5
  participants. Eligible for EIP Funding.\nPlease note: Community CPR and t
 he Community First Aid\, as a bundle\, are offered together and completed 
 in one session. AED training is included.\n\nTarget Audience: All\nTrainer
 : Christie Cinquemani\nOCFS: 4\nFee: $150 members/ $200 non-members\nRegis
 ter by calling (845) 425-0009 x0.\n\nPayment is required upon registration
  and a confirmation of payment will be emailed to you. A reimbursement che
 ck will be issued after completion of the class.
DTSTART;TZID=America/New_York:20250621T090000
DTEND;TZID=America/New_York:20250621T140000
LOCATION:40 Ramland Road\, Suite 209\, Orangeburg\, NY 10962 US
SUMMARY:American Red Cross: CPR and First Aid Bundle
END:VEVENT
END:VCALENDAR
