BEGIN:VCALENDAR
VERSION:2.0
PRODID:-//childcarerockland.org//NONSGML kigkonsult.se iCalcreator 2.30.10/
 /
CALSCALE:GREGORIAN
METHOD:PUBLISH
UID:ba140141-3a8b-4527-ad69-5dceb34eb178
X-WR-CALDESC:In observance of Juneteenth.
X-WR-RELCALID:0d4d115ada5a27cec7e45f937840c7f4
X-WR-TIMEZONE:America/New_York
BEGIN:VTIMEZONE
TZID:America/New_York
BEGIN:STANDARD
TZNAME:EST
DTSTART:20241103T020000
TZOFFSETFROM:-0400
TZOFFSETTO:-0500
RDATE:20251102T020000
RDATE:20261101T020000
END:STANDARD
BEGIN:DAYLIGHT
TZNAME:EDT
DTSTART:20250309T020000
TZOFFSETFROM:-0500
TZOFFSETTO:-0400
RDATE:20260308T020000
END:DAYLIGHT
END:VTIMEZONE
BEGIN:VEVENT
UID:290e2da6-0558-4b36-a5bf-a301d63eb34f
DTSTAMP:20260421T192036Z
DESCRIPTION:In observance of Juneteenth.
DTSTART;TZID=America/New_York:20250619T083000
DTEND;TZID=America/New_York:20250619T170000
LOCATION:40 Ramland Road\, Suite 209\, Orangeburg\, NY 10962 US
SUMMARY:CCRR Office Closed
END:VEVENT
END:VCALENDAR
