BEGIN:VCALENDAR
VERSION:2.0
PRODID:-//childcarerockland.org//NONSGML kigkonsult.se iCalcreator 2.30.10/
 /
CALSCALE:GREGORIAN
METHOD:PUBLISH
UID:875b6be8-9e5d-436b-8ec7-20c93fa33c6e
X-WR-CALDESC:A child care program's sustainability plan outlines the long-t
 erm financial goals\, strategies\, and steps used to help sustain a child 
 care business. This training teaches participants to complete a sustainabi
 lity plan for their own business. Participants complete a sustainability p
 lan template draft during the training and also receive several additional
  forms and handouts to support the completion of a sustainability plan aft
 er attending the training. \n\nTarget Audience: FG\nTrainer: Allison Wojci
 echowski \nOCFS: 3\, 5\nCBK: 6\, 7\nCDA: L\, M\nFee: Free\n\n*Once registe
 red\, the Zoom link will be emailed to you.
X-WR-RELCALID:589830c2f60db36ba360261273dcc3a6
X-WR-TIMEZONE:America/New_York
BEGIN:VTIMEZONE
TZID:America/New_York
BEGIN:STANDARD
TZNAME:EST
DTSTART:20241103T020000
TZOFFSETFROM:-0400
TZOFFSETTO:-0500
RDATE:20251102T020000
RDATE:20261101T020000
END:STANDARD
BEGIN:DAYLIGHT
TZNAME:EDT
DTSTART:20250309T020000
TZOFFSETFROM:-0500
TZOFFSETTO:-0400
RDATE:20260308T020000
END:DAYLIGHT
END:VTIMEZONE
BEGIN:VEVENT
UID:85d57c4d-6893-4c65-9366-b2d89fc81ca6
DTSTAMP:20260421T191336Z
DESCRIPTION:A child care program's sustainability plan outlines the long-te
 rm financial goals\, strategies\, and steps used to help sustain a child c
 are business. This training teaches participants to complete a sustainabil
 ity plan for their own business. Participants complete a sustainability pl
 an template draft during the training and also receive several additional 
 forms and handouts to support the completion of a sustainability plan afte
 r attending the training. \n\nTarget Audience: FG\nTrainer: Allison Wojcie
 chowski \nOCFS: 3\, 5\nCBK: 6\, 7\nCDA: L\, M\nFee: Free\n\n*Once register
 ed\, the Zoom link will be emailed to you.
DTSTART;TZID=America/New_York:20250616T180000
DTEND;TZID=America/New_York:20250616T200000
LOCATION:via Zoom
SUMMARY:Child Care Program Sustainability Planning
END:VEVENT
END:VCALENDAR
