BEGIN:VCALENDAR
VERSION:2.0
PRODID:-//childcarerockland.org//NONSGML kigkonsult.se iCalcreator 2.30.10/
 /
CALSCALE:GREGORIAN
METHOD:PUBLISH
UID:fc30d041-800a-4d59-8f64-3c5d3987474d
X-WR-CALDESC:The Child and Adult Care Food Program (CACFP) is federally fun
 ded and administered by the NYS Department of Health to reimburse home-bas
 ed child care providers. Attend a Mandatory Training. In order to remain i
 n compliance you must attend one Mandatory CACFP Training annually.\n\nTar
 get Audience: FG\nTrainer: Chantel Pittman\nOCFS: 2\nFee: Free\n\nFunding 
 is provided by the Child and Adult Care Food Program (CACFP)
X-WR-RELCALID:778f32b099c390438318a623e76e0281
X-WR-TIMEZONE:America/New_York
BEGIN:VTIMEZONE
TZID:America/New_York
BEGIN:STANDARD
TZNAME:EST
DTSTART:20241103T020000
TZOFFSETFROM:-0400
TZOFFSETTO:-0500
RDATE:20251102T020000
RDATE:20261101T020000
END:STANDARD
BEGIN:DAYLIGHT
TZNAME:EDT
DTSTART:20250309T020000
TZOFFSETFROM:-0500
TZOFFSETTO:-0400
RDATE:20260308T020000
END:DAYLIGHT
END:VTIMEZONE
BEGIN:VEVENT
UID:2e9a49cb-6251-4921-9cab-c16bf50618c0
DTSTAMP:20260421T192121Z
DESCRIPTION:The Child and Adult Care Food Program (CACFP) is federally fund
 ed and administered by the NYS Department of Health to reimburse home-base
 d child care providers. Attend a Mandatory Training. In order to remain in
  compliance you must attend one Mandatory CACFP Training annually.\n\nTarg
 et Audience: FG\nTrainer: Chantel Pittman\nOCFS: 2\nFee: Free\n\nFunding i
 s provided by the Child and Adult Care Food Program (CACFP)
DTSTART;TZID=America/New_York:20250605T180000
DTEND;TZID=America/New_York:20250605T200000
LOCATION:40 Ramland Road\, Suite 209\, Orangeburg\, NY 10962 US
SUMMARY:CACFP Mandato﻿ry Training for Home-Based Providers
END:VEVENT
END:VCALENDAR
