BEGIN:VCALENDAR
VERSION:2.0
PRODID:-//childcarerockland.org//NONSGML kigkonsult.se iCalcreator 2.30.10/
 /
CALSCALE:GREGORIAN
METHOD:PUBLISH
UID:890fb6da-9f19-46a7-b42e-c32cc0de0d51
X-WR-CALDESC:How do we support children with developmental delays? What sup
 ports can be implemented to work with children who do not receive Early In
 tervention? What signs should providers be aware of that are indicators of
  developmental delays? Join Keishea to learn more!\n\nTarget Audience: D\,
  FG\, IT\, LE\nTrainer: Keishea Allen\nOCFS: 1\nCBK: 1\, 2\nCDA: M\nFee: $
 20 members/ $75 non-members\nRegister by calling (845) 425-0009 x0.\n\nPay
 ment is required upon registration and a confirmation of payment will be e
 mailed to you. A reimbursement check will be issued after completion of th
 e class.
X-WR-RELCALID:2ff1cef3557b648e04c82eff6d1cb368
X-WR-TIMEZONE:America/New_York
BEGIN:VTIMEZONE
TZID:America/New_York
BEGIN:STANDARD
TZNAME:EST
DTSTART:20241103T020000
TZOFFSETFROM:-0400
TZOFFSETTO:-0500
RDATE:20251102T020000
RDATE:20261101T020000
END:STANDARD
BEGIN:DAYLIGHT
TZNAME:EDT
DTSTART:20250309T020000
TZOFFSETFROM:-0500
TZOFFSETTO:-0400
RDATE:20260308T020000
END:DAYLIGHT
END:VTIMEZONE
BEGIN:VEVENT
UID:a474f1cd-ca6f-40a5-8545-93dfcf8abaf5
DTSTAMP:20260421T191459Z
DESCRIPTION:How do we support children with developmental delays? What supp
 orts can be implemented to work with children who do not receive Early Int
 ervention? What signs should providers be aware of that are indicators of 
 developmental delays? Join Keishea to learn more!\n\nTarget Audience: D\, 
 FG\, IT\, LE\nTrainer: Keishea Allen\nOCFS: 1\nCBK: 1\, 2\nCDA: M\nFee: $2
 0 members/ $75 non-members\nRegister by calling (845) 425-0009 x0.\n\nPaym
 ent is required upon registration and a confirmation of payment will be em
 ailed to you. A reimbursement check will be issued after completion of the
  class.
DTSTART;TZID=America/New_York:20250604T183000
DTEND;TZID=America/New_York:20250604T203000
LOCATION:40 Ramland Road\, Suite 209\, Orangeburg\, NY 10962 US
SUMMARY:Supporting Children with Developmental Delays
END:VEVENT
END:VCALENDAR
