BEGIN:VCALENDAR
VERSION:2.0
PRODID:-//childcarerockland.org//NONSGML kigkonsult.se iCalcreator 2.30.10/
 /
CALSCALE:GREGORIAN
METHOD:PUBLISH
UID:5a7db55b-113d-49ab-b0e3-472b1ea4b667
X-WR-CALDESC:Join us for Engage and Inspire: The Magic of Interest Areas in
  Early Childhood Education\, a hands-on training session designed for educ
 ators working with preschoolers. This session will explore the power of in
 terest areas-dedicated spaces where children can explore\, manipulate\, an
 d interact with materials that capture their curiosity and spark learning.
  \n\nTarget Audience: D\, PS\, LE\, FG\nTrainer: Jessica Malas\nOCFS: 2\nC
 BK: 4\nCDA: C\, J\nFee: $20 members/ $75 non-members\nRegister by calling 
 (845) 425-0009 x0.\n\nPayment is required upon registration and a confirma
 tion of payment will be emailed to you. A reimbursement check will be issu
 ed after completion of the class.
X-WR-RELCALID:dbcb69d463b1d4639299f3e3ea0846e5
X-WR-TIMEZONE:America/New_York
BEGIN:VTIMEZONE
TZID:America/New_York
BEGIN:STANDARD
TZNAME:EST
DTSTART:20241103T020000
TZOFFSETFROM:-0400
TZOFFSETTO:-0500
RDATE:20251102T020000
RDATE:20261101T020000
END:STANDARD
BEGIN:DAYLIGHT
TZNAME:EDT
DTSTART:20250309T020000
TZOFFSETFROM:-0500
TZOFFSETTO:-0400
RDATE:20260308T020000
END:DAYLIGHT
END:VTIMEZONE
BEGIN:VEVENT
UID:5097d639-de52-4f36-8e37-73401c534bd3
DTSTAMP:20260421T191459Z
DESCRIPTION:Join us for Engage and Inspire: The Magic of Interest Areas in 
 Early Childhood Education\, a hands-on training session designed for educa
 tors working with preschoolers. This session will explore the power of int
 erest areas-dedicated spaces where children can explore\, manipulate\, and
  interact with materials that capture their curiosity and spark learning. 
 \n\nTarget Audience: D\, PS\, LE\, FG\nTrainer: Jessica Malas\nOCFS: 2\nCB
 K: 4\nCDA: C\, J\nFee: $20 members/ $75 non-members\nRegister by calling (
 845) 425-0009 x0.\n\nPayment is required upon registration and a confirmat
 ion of payment will be emailed to you. A reimbursement check will be issue
 d after completion of the class.
DTSTART;TZID=America/New_York:20250603T183000
DTEND;TZID=America/New_York:20250603T203000
LOCATION:40 Ramland Road\, Suite 209\, Orangeburg\, NY 10962 US
SUMMARY:Engage and Inspire: The Magic of Interest Areas in Early Childhood 
 Education
END:VEVENT
END:VCALENDAR
