BEGIN:VCALENDAR
VERSION:2.0
PRODID:-//childcarerockland.org//NONSGML kigkonsult.se iCalcreator 2.30.10/
 /
CALSCALE:GREGORIAN
METHOD:PUBLISH
UID:0f50b1ed-1292-4399-82fe-79bd379f0e91
X-WR-CALDESC:In observance of Memorial Day.
X-WR-RELCALID:3c1933736670514bc6175455b032a9af
X-WR-TIMEZONE:America/New_York
BEGIN:VTIMEZONE
TZID:America/New_York
BEGIN:STANDARD
TZNAME:EST
DTSTART:20241103T020000
TZOFFSETFROM:-0400
TZOFFSETTO:-0500
RDATE:20251102T020000
RDATE:20261101T020000
END:STANDARD
BEGIN:DAYLIGHT
TZNAME:EDT
DTSTART:20250309T020000
TZOFFSETFROM:-0500
TZOFFSETTO:-0400
RDATE:20260308T020000
END:DAYLIGHT
END:VTIMEZONE
BEGIN:VEVENT
UID:194341a9-59ea-4cbf-9781-51c34b1c0528
DTSTAMP:20260421T203953Z
DESCRIPTION:In observance of Memorial Day.
DTSTART;TZID=America/New_York:20250526T083000
DTEND;TZID=America/New_York:20250526T170000
LOCATION:40 Ramland Road\, Suite 209\, Orangeburg\, NY 10962 US
SUMMARY:CCRR Office Closed
END:VEVENT
END:VCALENDAR
