BEGIN:VCALENDAR
VERSION:2.0
PRODID:-//childcarerockland.org//NONSGML kigkonsult.se iCalcreator 2.30.10/
 /
CALSCALE:GREGORIAN
METHOD:PUBLISH
UID:a8119de4-59f9-47db-a5f1-becd6bbb0ff0
X-WR-CALDESC:How is your child care business doing? Are you looking to boos
 t enrollment? Do you know who your target market is? Do you have a marketi
 ng plan? Are you using social media to market your business? Come join CCR
 R's Business Support Specialist Allison Wojciechowski in learning more abo
 ut marketing your child care business. \n\nTarget Audience: D\, FG\, SA\nT
 rainer: Allison Wojciechowski \nOCFS: 3\, 5\nCBK: 6\, 7\nCDA: L\, M\nFee: 
 Free\n\n*Once registered\, the Zoom link will be emailed to you.
X-WR-RELCALID:d03ee6301c7b766e636b9e698ad36133
X-WR-TIMEZONE:America/New_York
BEGIN:VTIMEZONE
TZID:America/New_York
BEGIN:STANDARD
TZNAME:EST
DTSTART:20241103T020000
TZOFFSETFROM:-0400
TZOFFSETTO:-0500
RDATE:20251102T020000
RDATE:20261101T020000
END:STANDARD
BEGIN:DAYLIGHT
TZNAME:EDT
DTSTART:20250309T020000
TZOFFSETFROM:-0500
TZOFFSETTO:-0400
RDATE:20260308T020000
END:DAYLIGHT
END:VTIMEZONE
BEGIN:VEVENT
UID:e59f1a45-c00f-4db3-aa85-5ef6eb901b9f
DTSTAMP:20260421T204434Z
DESCRIPTION:How is your child care business doing? Are you looking to boost
  enrollment? Do you know who your target market is? Do you have a marketin
 g plan? Are you using social media to market your business? Come join CCRR
 's Business Support Specialist Allison Wojciechowski in learning more abou
 t marketing your child care business. \n\nTarget Audience: D\, FG\, SA\nTr
 ainer: Allison Wojciechowski \nOCFS: 3\, 5\nCBK: 6\, 7\nCDA: L\, M\nFee: F
 ree\n\n*Once registered\, the Zoom link will be emailed to you.
DTSTART;TZID=America/New_York:20250519T180000
DTEND;TZID=America/New_York:20250519T200000
LOCATION:via Zoom
SUMMARY:Marketing Your Child Care Business: Let's Get the Word Out!
END:VEVENT
END:VCALENDAR
