BEGIN:VCALENDAR
VERSION:2.0
PRODID:-//childcarerockland.org//NONSGML kigkonsult.se iCalcreator 2.30.10/
 /
CALSCALE:GREGORIAN
METHOD:PUBLISH
UID:9b2437e6-ff79-4c8a-af22-452db5ba780f
X-WR-CALDESC:Join Child Care Resources of Rockland\, Inc. and the Departmen
 t of Social Services\, Child Care Assistance Unit for an important live vi
 rtual presentation about the Child Care Assistance Program (CCAP) and the 
 county waitlist. This information session is designed to provide you with 
 important details regarding the Child Care Assistance Program. \n\nFunding
  is provided by the Office of Children and Family Services (OCFS)\n\n*Once
  registered\, the Zoom link will be emailed to you.
X-WR-RELCALID:3551806cbd2950f95d70199947cb6ef2
X-WR-TIMEZONE:America/New_York
BEGIN:VTIMEZONE
TZID:America/New_York
BEGIN:STANDARD
TZNAME:EST
DTSTART:20241103T020000
TZOFFSETFROM:-0400
TZOFFSETTO:-0500
RDATE:20251102T020000
RDATE:20261101T020000
END:STANDARD
BEGIN:DAYLIGHT
TZNAME:EDT
DTSTART:20250309T020000
TZOFFSETFROM:-0500
TZOFFSETTO:-0400
RDATE:20260308T020000
END:DAYLIGHT
END:VTIMEZONE
BEGIN:VEVENT
UID:a18b7e6e-49f2-4a3c-8a60-9caff4ea5341
DTSTAMP:20260421T203833Z
DESCRIPTION:Join Child Care Resources of Rockland\, Inc. and the Department
  of Social Services\, Child Care Assistance Unit for an important live vir
 tual presentation about the Child Care Assistance Program (CCAP) and the c
 ounty waitlist. This information session is designed to provide you with i
 mportant details regarding the Child Care Assistance Program. \n\nFunding 
 is provided by the Office of Children and Family Services (OCFS)\n\n*Once 
 registered\, the Zoom link will be emailed to you.
DTSTART;TZID=America/New_York:20250514T183000
DTEND;TZID=America/New_York:20250514T200000
LOCATION:via Zoom
SUMMARY:Provider Network Meeting
END:VEVENT
END:VCALENDAR
