BEGIN:VCALENDAR
VERSION:2.0
PRODID:-//childcarerockland.org//NONSGML kigkonsult.se iCalcreator 2.30.10/
 /
CALSCALE:GREGORIAN
METHOD:PUBLISH
UID:5633c003-432d-4651-9c22-9ad21a3213d5
X-WR-CALDESC:Early language and literacy skills are learned best through ev
 eryday moments. Promoting literacy at a young age positively impacts langu
 age development of infants and toddlers. Come join us in discussing ways t
 o incorporate early literacy into daily activities and help children devel
 op their language and literacy skills. \n\nTarget Audience: FG\, IT\, LE\n
 Trainer: Jenny Spampinato\nOCFS: 1\, 3\nCBK: 1\, 4\nCDA: C\, F\nFee: $20 m
 embers/ $75 non-members\nRegister by calling (845) 425-0009 x0.\n\nPayment
  is required upon registration and a confirmation of payment will be email
 ed to you. A reimbursement check will be issued after completion of the cl
 ass.\n\n*Once registered\, the Zoom link will be emailed to you.
X-WR-RELCALID:78f02967e93279d9ed217d62aa03cdb6
X-WR-TIMEZONE:America/New_York
BEGIN:VTIMEZONE
TZID:America/New_York
BEGIN:STANDARD
TZNAME:EST
DTSTART:20241103T020000
TZOFFSETFROM:-0400
TZOFFSETTO:-0500
RDATE:20251102T020000
RDATE:20261101T020000
END:STANDARD
BEGIN:DAYLIGHT
TZNAME:EDT
DTSTART:20250309T020000
TZOFFSETFROM:-0500
TZOFFSETTO:-0400
RDATE:20260308T020000
END:DAYLIGHT
END:VTIMEZONE
BEGIN:VEVENT
UID:7457bb86-f8cb-4123-b249-849a9a58ecee
DTSTAMP:20260421T204010Z
DESCRIPTION:Early language and literacy skills are learned best through eve
 ryday moments. Promoting literacy at a young age positively impacts langua
 ge development of infants and toddlers. Come join us in discussing ways to
  incorporate early literacy into daily activities and help children develo
 p their language and literacy skills. \n\nTarget Audience: FG\, IT\, LE\nT
 rainer: Jenny Spampinato\nOCFS: 1\, 3\nCBK: 1\, 4\nCDA: C\, F\nFee: $20 me
 mbers/ $75 non-members\nRegister by calling (845) 425-0009 x0.\n\nPayment 
 is required upon registration and a confirmation of payment will be emaile
 d to you. A reimbursement check will be issued after completion of the cla
 ss.\n\n*Once registered\, the Zoom link will be emailed to you.
DTSTART;TZID=America/New_York:20250508T183000
DTEND;TZID=America/New_York:20250508T203000
LOCATION:via Zoom
SUMMARY:Promoting Early Literacy in Your Program
END:VEVENT
END:VCALENDAR
