BEGIN:VCALENDAR
VERSION:2.0
PRODID:-//childcarerockland.org//NONSGML kigkonsult.se iCalcreator 2.30.10/
 /
CALSCALE:GREGORIAN
METHOD:PUBLISH
UID:78bd3f0b-8d84-4380-8442-72f0ff0feb4c
X-WR-CALDESC:Toddlers can be full of big emotions that they do not yet have
  the language to express. As early educators\, it’s important to understan
 d that toddlers do not have the ability to regulate their emotions on thei
 r own and need our help. In this workshop\, we will explore how to help to
 ddlers regulate their emotions and work through tantrums.\n\nTarget Audien
 ce: FG\, IT\, LE\nTrainer: Jenny Spampinato\nOCFS: 1\, 3\nCBK: 1\, 4\nCDA:
  I\, M\nFee: $20 members/ $75 non-members\nRegister by calling (845) 425-0
 009 x0.\n\nPayment is required upon registration and a confirmation of pay
 ment will be emailed to you. A reimbursement check will be issued after co
 mpletion of the class.\n\n*Once registered\, the Zoom link will be emailed
  to you.
X-WR-RELCALID:2061af5362dc3a1144b0851ed338b9c8
X-WR-TIMEZONE:America/New_York
BEGIN:VTIMEZONE
TZID:America/New_York
BEGIN:STANDARD
TZNAME:EST
DTSTART:20241103T020000
TZOFFSETFROM:-0400
TZOFFSETTO:-0500
RDATE:20251102T020000
END:STANDARD
BEGIN:DAYLIGHT
TZNAME:EDT
DTSTART:20250309T020000
TZOFFSETFROM:-0500
TZOFFSETTO:-0400
RDATE:20260308T020000
END:DAYLIGHT
END:VTIMEZONE
BEGIN:VEVENT
UID:57238f80-d5d8-4397-9de1-c849508c1785
DTSTAMP:20260421T204310Z
DESCRIPTION:Toddlers can be full of big emotions that they do not yet have 
 the language to express. As early educators\, it’s important to understand
  that toddlers do not have the ability to regulate their emotions on their
  own and need our help. In this workshop\, we will explore how to help tod
 dlers regulate their emotions and work through tantrums.\n\nTarget Audienc
 e: FG\, IT\, LE\nTrainer: Jenny Spampinato\nOCFS: 1\, 3\nCBK: 1\, 4\nCDA: 
 I\, M\nFee: $20 members/ $75 non-members\nRegister by calling (845) 425-00
 09 x0.\n\nPayment is required upon registration and a confirmation of paym
 ent will be emailed to you. A reimbursement check will be issued after com
 pletion of the class.\n\n*Once registered\, the Zoom link will be emailed 
 to you.
DTSTART;TZID=America/New_York:20250501T183000
DTEND;TZID=America/New_York:20250501T203000
LOCATION:via Zoom
SUMMARY:Keeping the Peace: How to Manage Toddler Tantrums
END:VEVENT
END:VCALENDAR
