BEGIN:VCALENDAR
VERSION:2.0
PRODID:-//childcarerockland.org//NONSGML kigkonsult.se iCalcreator 2.30.10/
 /
CALSCALE:GREGORIAN
METHOD:PUBLISH
UID:4b4e5947-3852-4ac6-92cf-b9da8ab5a5e5
X-WR-CALDESC:NYS OCFS regulations for all modalities require that every pro
 gram have a person certified in CPR and First Aid on-site at all times. Ce
 rtification is valid for 2 years. As per ARC policy\, we are unable to adm
 it anyone into the class once it has begun. Please be on time! Limited to 
 5 participants. Eligible for EIP Funding. Please note: Community CPR and t
 he Community First Aid\, as a bundle\, are offered together and completed 
 in one session. AED training is included. \n\nTarget Audience: All       
 \nOCFS: 4        \nFee: $150 members/ $200 non-members\nRegister by callin
 g (845) 425-0009 x0.\n\nPayment is required upon registration and a confir
 mation of payment will be emailed to you. A reimbursement check will be is
 sued after completion of the class.
X-WR-RELCALID:e74d30a186b1c315fc6bc1fca22d5dd5
X-WR-TIMEZONE:America/New_York
BEGIN:VTIMEZONE
TZID:America/New_York
BEGIN:STANDARD
TZNAME:EST
DTSTART:20241103T020000
TZOFFSETFROM:-0400
TZOFFSETTO:-0500
RDATE:20251102T020000
END:STANDARD
BEGIN:DAYLIGHT
TZNAME:EDT
DTSTART:20250309T020000
TZOFFSETFROM:-0500
TZOFFSETTO:-0400
RDATE:20260308T020000
END:DAYLIGHT
END:VTIMEZONE
BEGIN:VEVENT
UID:15a7ea0a-2e50-403c-ad71-8377f7a6342f
DTSTAMP:20260421T221853Z
DESCRIPTION:NYS OCFS regulations for all modalities require that every prog
 ram have a person certified in CPR and First Aid on-site at all times. Cer
 tification is valid for 2 years. As per ARC policy\, we are unable to admi
 t anyone into the class once it has begun. Please be on time! Limited to 5
  participants. Eligible for EIP Funding. Please note: Community CPR and th
 e Community First Aid\, as a bundle\, are offered together and completed i
 n one session. AED training is included. \n\nTarget Audience: All       \n
 OCFS: 4        \nFee: $150 members/ $200 non-members\nRegister by calling 
 (845) 425-0009 x0.\n\nPayment is required upon registration and a confirma
 tion of payment will be emailed to you. A reimbursement check will be issu
 ed after completion of the class.
DTSTART;TZID=America/New_York:20250424T100000
DTEND;TZID=America/New_York:20250424T150000
LOCATION:40 Ramland Road\, Suite 209\, Orangeburg\, NY 10962 US
SUMMARY:American Red Cross: CPR and First Aid Bundle
END:VEVENT
END:VCALENDAR
