BEGIN:VCALENDAR
VERSION:2.0
PRODID:-//childcarerockland.org//NONSGML kigkonsult.se iCalcreator 2.30.10/
 /
CALSCALE:GREGORIAN
METHOD:PUBLISH
UID:352517a2-b21e-47a7-91ac-bac5f85d8501
X-WR-CALDESC:This training session is designed to help child care providers
  develop the skills necessary to navigate difficult conversations with fam
 ilies and enforce policies effectively. Participants will learn essential 
 communication strategies\, understand the importance of empathy and clarit
 y. The session aims to build confidence and competence in maintaining a pr
 ofessional and supportive environment while upholding the policies that en
 sure the safety and well-being of children.\n\nTarget Audience: D\, FG\, S
 A\nTrainer: Allison Wojciechowski \nComponent Areas:\nOCFS: 3 \nCBK: 6\, 7
 \nCDA: M\nFee: Free\n\n*Once registered\, the Zoom link will be emailed to
  you.
X-WR-RELCALID:c07039f56ad37e6d375a94bcab3db17d
X-WR-TIMEZONE:America/New_York
BEGIN:VTIMEZONE
TZID:America/New_York
BEGIN:STANDARD
TZNAME:EST
DTSTART:20241103T020000
TZOFFSETFROM:-0400
TZOFFSETTO:-0500
RDATE:20251102T020000
END:STANDARD
BEGIN:DAYLIGHT
TZNAME:EDT
DTSTART:20250309T020000
TZOFFSETFROM:-0500
TZOFFSETTO:-0400
RDATE:20260308T020000
END:DAYLIGHT
END:VTIMEZONE
BEGIN:VEVENT
UID:1606d21e-bb70-4c7c-9403-80ed44880282
DTSTAMP:20260421T221642Z
DESCRIPTION:This training session is designed to help child care providers 
 develop the skills necessary to navigate difficult conversations with fami
 lies and enforce policies effectively. Participants will learn essential c
 ommunication strategies\, understand the importance of empathy and clarity
 . The session aims to build confidence and competence in maintaining a pro
 fessional and supportive environment while upholding the policies that ens
 ure the safety and well-being of children.\n\nTarget Audience: D\, FG\, SA
 \nTrainer: Allison Wojciechowski \nComponent Areas:\nOCFS: 3 \nCBK: 6\, 7
 \nCDA: M\nFee: Free\n\n*Once registered\, the Zoom link will be emailed to
  you.
DTSTART;TZID=America/New_York:20250421T180000
DTEND;TZID=America/New_York:20250421T190000
LOCATION:via Zoom
SUMMARY:It’s Policy! Enforcing Your Family Policies and How to Have Those C
 onversations
END:VEVENT
END:VCALENDAR
