BEGIN:VCALENDAR
VERSION:2.0
PRODID:-//childcarerockland.org//NONSGML kigkonsult.se iCalcreator 2.30.10/
 /
CALSCALE:GREGORIAN
METHOD:PUBLISH
UID:9f2c6bc4-86bd-4f36-95b8-472d71ca3eba
X-WR-CALDESC:Join a Network Meeting! CCRR Network Meetings provide child ca
 re professionals with the chance to connect with others in the field\; sta
 y on top of trends and data\; and remain informed about the latest news an
 d regulations in child care. \n\nFee: Free\n\nFunding is provided by the O
 ffice of Children and Family Services (OCFS)
X-WR-RELCALID:fab0850afe281dc5a4cf25dd4ee766c3
X-WR-TIMEZONE:America/New_York
BEGIN:VTIMEZONE
TZID:America/New_York
BEGIN:STANDARD
TZNAME:EST
DTSTART:20241103T020000
TZOFFSETFROM:-0400
TZOFFSETTO:-0500
RDATE:20251102T020000
END:STANDARD
BEGIN:DAYLIGHT
TZNAME:EDT
DTSTART:20250309T020000
TZOFFSETFROM:-0500
TZOFFSETTO:-0400
RDATE:20260308T020000
END:DAYLIGHT
END:VTIMEZONE
BEGIN:VEVENT
UID:3423338e-503a-47eb-afc0-da0dcbadb0dc
DTSTAMP:20260421T221621Z
DESCRIPTION:Join a Network Meeting! CCRR Network Meetings provide child car
 e professionals with the chance to connect with others in the field\; stay
  on top of trends and data\; and remain informed about the latest news and
  regulations in child care. \n\nFee: Free\n\nFunding is provided by the Of
 fice of Children and Family Services (OCFS)
DTSTART;TZID=America/New_York:20250418T110000
DTEND;TZID=America/New_York:20250418T120000
LOCATION:40 Ramland Road\, Suite 209\, Orangeburg\, NY 10962 US
SUMMARY:Director Network Meeting
END:VEVENT
END:VCALENDAR
