BEGIN:VCALENDAR
VERSION:2.0
PRODID:-//childcarerockland.org//NONSGML kigkonsult.se iCalcreator 2.30.10/
 /
CALSCALE:GREGORIAN
METHOD:PUBLISH
UID:4c1d0e2a-6e63-4b1b-a4d7-89c3023bdec3
X-WR-CALDESC:Child Abuse and Maltreatment is a topic that hurts all of us. 
 Through discussion and activities\, we will look at how child care provide
 rs can do their part to identify suspected abuse and maltreatment and docu
 ment observations. We will also take a deeper dive into shaken baby syndro
 me and discuss preventive strategies to reduce the risk.\n\nTarget Audienc
 e: All\nTrainer: Jenny Spampinato \nComponent Areas:\nOCFS: 2\, 6\, 8\, 9 
 \nCBK: E\, G \nCDA: M\nFee: $20 members/ $75 non-members\nRegister by call
 ing (845) 425-0009 x0.\n\nPayment is required upon registration and a conf
 irmation of payment will be emailed to you. A reimbursement check will be 
 issued after completion of the class.
X-WR-RELCALID:5271fdc3dd902682006b49ee6be306ab
X-WR-TIMEZONE:America/New_York
BEGIN:VTIMEZONE
TZID:America/New_York
BEGIN:STANDARD
TZNAME:EST
DTSTART:20241103T020000
TZOFFSETFROM:-0400
TZOFFSETTO:-0500
RDATE:20251102T020000
END:STANDARD
BEGIN:DAYLIGHT
TZNAME:EDT
DTSTART:20250309T020000
TZOFFSETFROM:-0500
TZOFFSETTO:-0400
RDATE:20260308T020000
END:DAYLIGHT
END:VTIMEZONE
BEGIN:VEVENT
UID:546cb543-479e-4498-9bab-4bd2f3263866
DTSTAMP:20260421T221507Z
DESCRIPTION:Child Abuse and Maltreatment is a topic that hurts all of us. T
 hrough discussion and activities\, we will look at how child care provider
 s can do their part to identify suspected abuse and maltreatment and docum
 ent observations. We will also take a deeper dive into shaken baby syndrom
 e and discuss preventive strategies to reduce the risk.\n\nTarget Audience
 : All\nTrainer: Jenny Spampinato \nComponent Areas:\nOCFS: 2\, 6\, 8\, 9 
 \nCBK: E\, G \nCDA: M\nFee: $20 members/ $75 non-members\nRegister by call
 ing (845) 425-0009 x0.\n\nPayment is required upon registration and a conf
 irmation of payment will be emailed to you. A reimbursement check will be 
 issued after completion of the class.
DTSTART;TZID=America/New_York:20250415T183000
DTEND;TZID=America/New_York:20250415T203000
LOCATION:40 Ramland Road\, Suite 209\, Orangeburg\, NY 10962 US
SUMMARY:Preventing Child Abuse\, Maltreatment\, and Shaken Baby Syndrome
END:VEVENT
END:VCALENDAR
