BEGIN:VCALENDAR
VERSION:2.0
PRODID:-//childcarerockland.org//NONSGML kigkonsult.se iCalcreator 2.30.10/
 /
CALSCALE:GREGORIAN
METHOD:PUBLISH
UID:5cd1d131-3950-485c-bfd1-6ef7de41435b
X-WR-CALDESC:Join a Network Meeting! CCRR Network Meetings provide child ca
 re professionals with the chance to connect with others in the field\; sta
 y on top of trends and data\; and remain informed about the latest news an
 d regulations in child care.\n\nFacilitator: Angela Reyes\nFee: Free\n\nFu
 nding is provided by the Office of Children and Family Services (OCFS)
X-WR-RELCALID:0fc27c3effb81281113539b7ec88d32f
X-WR-TIMEZONE:America/New_York
BEGIN:VTIMEZONE
TZID:America/New_York
BEGIN:STANDARD
TZNAME:EST
DTSTART:20241103T020000
TZOFFSETFROM:-0400
TZOFFSETTO:-0500
RDATE:20251102T020000
END:STANDARD
BEGIN:DAYLIGHT
TZNAME:EDT
DTSTART:20250309T020000
TZOFFSETFROM:-0500
TZOFFSETTO:-0400
RDATE:20260308T020000
END:DAYLIGHT
END:VTIMEZONE
BEGIN:VEVENT
UID:fbfcd6ce-a48c-4a6f-a346-ec6932e66175
DTSTAMP:20260421T234031Z
DESCRIPTION:Join a Network Meeting! CCRR Network Meetings provide child car
 e professionals with the chance to connect with others in the field\; stay
  on top of trends and data\; and remain informed about the latest news and
  regulations in child care.\n\nFacilitator: Angela Reyes\nFee: Free\n\nFun
 ding is provided by the Office of Children and Family Services (OCFS)
DTSTART;TZID=America/New_York:20250321T110000
DTEND;TZID=America/New_York:20250321T120000
LOCATION:40 Ramland Road\, Suite 209\, Orangeburg\, NY 10962 US
SUMMARY:Director Network Meeting
END:VEVENT
END:VCALENDAR
