BEGIN:VCALENDAR
VERSION:2.0
PRODID:-//childcarerockland.org//NONSGML kigkonsult.se iCalcreator 2.30.10/
 /
CALSCALE:GREGORIAN
METHOD:PUBLISH
UID:0bae80d8-a4ba-4402-8f48-553ac41fe686
X-WR-CALDESC:Join a Network Meeting! CCRR Network Meetings provide child ca
 re professionals with the chance to connect with others in the field\; sta
 y on top of trends and data\; and remain informed about the latest news an
 d regulations in child care. \n\nThis month’s Provider Network Meeting foc
 us: Books/ Literacy\n\nFacilitator: Angela Reyes\nFee: Free\n\nFunding is 
 provided by the Office of Children and Family Services (OCFS)
X-WR-RELCALID:2b6b92595121b323bc0be79885ec71b1
X-WR-TIMEZONE:America/New_York
BEGIN:VTIMEZONE
TZID:America/New_York
BEGIN:STANDARD
TZNAME:EST
DTSTART:20241103T020000
TZOFFSETFROM:-0400
TZOFFSETTO:-0500
RDATE:20251102T020000
END:STANDARD
BEGIN:DAYLIGHT
TZNAME:EDT
DTSTART:20250309T020000
TZOFFSETFROM:-0500
TZOFFSETTO:-0400
RDATE:20260308T020000
END:DAYLIGHT
END:VTIMEZONE
BEGIN:VEVENT
UID:458538e7-8cc1-40e2-b43d-d125361b910f
DTSTAMP:20260421T234052Z
DESCRIPTION:Join a Network Meeting! CCRR Network Meetings provide child car
 e professionals with the chance to connect with others in the field\; stay
  on top of trends and data\; and remain informed about the latest news and
  regulations in child care. \n\nThis month’s Provider Network Meeting focu
 s: Books/ Literacy\n\nFacilitator: Angela Reyes\nFee: Free\n\nFunding is p
 rovided by the Office of Children and Family Services (OCFS)
DTSTART;TZID=America/New_York:20250320T183000
DTEND;TZID=America/New_York:20250320T200000
LOCATION:40 Ramland Road\, Suite 209\, Orangeburg\, NY 10962 US
SUMMARY:Provider Network Meeting
END:VEVENT
END:VCALENDAR
