BEGIN:VCALENDAR
VERSION:2.0
PRODID:-//childcarerockland.org//NONSGML kigkonsult.se iCalcreator 2.30.10/
 /
CALSCALE:GREGORIAN
METHOD:PUBLISH
UID:bf5b44da-0863-476b-8424-49ecb5a294a6
X-WR-CALDESC:What is CACFP?\nFamily Child Care and Group Family Child Care 
 Providers who wish to participate in the Child and Adult Care Food Program
  (CACFP) are welcome to join our CACFP Coordinator\, Chantel Pittman\, for
  a one hour information session. \nCACFP is federally funded and administe
 red by the NYS Department of Health to reimburse home-based child care pro
 viders. \n\nAttend a FREE recruitment informational session to learn:\n-Pr
 ogram eligibility requirements. \n-How you can be reimbursed for the nutri
 tious meals and snacks you provide to eligible children enrolled in your 
 \nFamily/ Group Family Child Care program. \n-How CACFP can make a differe
 nce in the quality of your program.\nLE providers may be eligible.\n\nTarg
 et Audience: FG\nLevels: All\nFee: No Charge to Potential CACFP Family/ Gr
 oup Family Child Care Providers and their key staff.   \nTrainer: Chantel 
 Pittman\n(Training Certificates are not provided)\n\nFunding is provided b
 y the Child and Adult Care Food Program (CACFP)
X-WR-RELCALID:1cfcac2f4a41faa0c7c633441f9bbf92
X-WR-TIMEZONE:America/New_York
BEGIN:VTIMEZONE
TZID:America/New_York
BEGIN:STANDARD
TZNAME:EST
DTSTART:20241103T020000
TZOFFSETFROM:-0400
TZOFFSETTO:-0500
RDATE:20251102T020000
END:STANDARD
BEGIN:DAYLIGHT
TZNAME:EDT
DTSTART:20250309T020000
TZOFFSETFROM:-0500
TZOFFSETTO:-0400
RDATE:20260308T020000
END:DAYLIGHT
END:VTIMEZONE
BEGIN:VEVENT
UID:e24225b7-230f-4816-8e3f-a1f1458527bc
DTSTAMP:20260421T234150Z
DESCRIPTION:What is CACFP?\nFamily Child Care and Group Family Child Care P
 roviders who wish to participate in the Child and Adult Care Food Program 
 (CACFP) are welcome to join our CACFP Coordinator\, Chantel Pittman\, for 
 a one hour information session. \nCACFP is federally funded and administer
 ed by the NYS Department of Health to reimburse home-based child care prov
 iders. \n\nAttend a FREE recruitment informational session to learn:\n-Pro
 gram eligibility requirements. \n-How you can be reimbursed for the nutrit
 ious meals and snacks you provide to eligible children enrolled in your \n
 Family/ Group Family Child Care program. \n-How CACFP can make a differenc
 e in the quality of your program.\nLE providers may be eligible.\n\nTarget
  Audience: FG\nLevels: All\nFee: No Charge to Potential CACFP Family/ Grou
 p Family Child Care Providers and their key staff.   \nTrainer: Chantel Pi
 ttman\n(Training Certificates are not provided)\n\nFunding is provided by 
 the Child and Adult Care Food Program (CACFP)
DTSTART;TZID=America/New_York:20250320T113000
DTEND;TZID=America/New_York:20250320T123000
LOCATION:40 Ramland Road\, Suite 209\, Orangeburg\, NY 10962 US
SUMMARY:CACFP Recruitment for Home-Based Providers
END:VEVENT
END:VCALENDAR
