BEGIN:VCALENDAR
VERSION:2.0
PRODID:-//childcarerockland.org//NONSGML kigkonsult.se iCalcreator 2.30.10/
 /
CALSCALE:GREGORIAN
METHOD:PUBLISH
UID:97897dc4-481f-4b1e-8a77-f02d02226a72
X-WR-CALDESC:This training session is designed for child care leaders seeki
 ng to improve their skills in managing a diverse workforce across generati
 ons. Participants will explore the unique traits and values of Baby Boomer
 s\, Generation X\, Millennials\, and Generation Z\, and learn how to adapt
  their leadership approach to effectively engage and motivate each group.
 \n  \nTarget Audience: D\, PS\, FG\, SA\nTrainer: Allison Wojciechowski\nC
 omponent Areas:\nOCFS: 3 \nCBK: 6\, 7\nCDA: M\nFee: Free\n\n*Once register
 ed\, the Zoom link will be emailed to you.
X-WR-RELCALID:eabd7ba334a8bf0cb15a5451bf0d5d1e
X-WR-TIMEZONE:America/New_York
BEGIN:VTIMEZONE
TZID:America/New_York
BEGIN:STANDARD
TZNAME:EST
DTSTART:20241103T020000
TZOFFSETFROM:-0400
TZOFFSETTO:-0500
RDATE:20251102T020000
END:STANDARD
BEGIN:DAYLIGHT
TZNAME:EDT
DTSTART:20250309T020000
TZOFFSETFROM:-0500
TZOFFSETTO:-0400
RDATE:20260308T020000
END:DAYLIGHT
END:VTIMEZONE
BEGIN:VEVENT
UID:5495a322-8318-403b-abd6-ff8695434fd7
DTSTAMP:20260421T234521Z
DESCRIPTION:This training session is designed for child care leaders seekin
 g to improve their skills in managing a diverse workforce across generatio
 ns. Participants will explore the unique traits and values of Baby Boomers
 \, Generation X\, Millennials\, and Generation Z\, and learn how to adapt 
 their leadership approach to effectively engage and motivate each group.\n
   \nTarget Audience: D\, PS\, FG\, SA\nTrainer: Allison Wojciechowski\nCom
 ponent Areas:\nOCFS: 3 \nCBK: 6\, 7\nCDA: M\nFee: Free\n\n*Once registered
 \, the Zoom link will be emailed to you.
DTSTART;TZID=America/New_York:20250317T180000
DTEND;TZID=America/New_York:20250317T190000
LOCATION:via Zoom
SUMMARY:Leading Multigenerational Teams in Child Care
END:VEVENT
END:VCALENDAR
