BEGIN:VCALENDAR
VERSION:2.0
PRODID:-//childcarerockland.org//NONSGML kigkonsult.se iCalcreator 2.30.10/
 /
CALSCALE:GREGORIAN
METHOD:PUBLISH
UID:51ad101b-8f76-44b8-ae5d-36570600b81e
X-WR-CALDESC:Are you struggling with challenging behaviors occurring in the
  classroom? Do you feel you could use some strategies on classroom managem
 ent? Join us to learn more about why children exhibit challenging behavior
 s and how you can develop strategies to ease them by utilizing classroom m
 anagement techniques.\n\nTarget Audience: FG\, PS\, IT\, LE\nTrainer: Jenn
 y Spampinato \nComponent Areas:\nOCFS: 1\, 3\nCBK: 1\, 4\nCDA: F\, L\nFee:
  $20 members/ $75 non-members\nRegister by calling (845) 425-0009 x0.\n\nP
 ayment is required upon registration and a confirmation of payment will be
  emailed to you. A reimbursement check will be issued after completion of 
 the class.
X-WR-RELCALID:545afea56f499586cb2852b4dd2d5f18
X-WR-TIMEZONE:America/New_York
BEGIN:VTIMEZONE
TZID:America/New_York
BEGIN:STANDARD
TZNAME:EST
DTSTART:20241103T020000
TZOFFSETFROM:-0400
TZOFFSETTO:-0500
RDATE:20251102T020000
END:STANDARD
BEGIN:DAYLIGHT
TZNAME:EDT
DTSTART:20250309T020000
TZOFFSETFROM:-0500
TZOFFSETTO:-0400
RDATE:20260308T020000
END:DAYLIGHT
END:VTIMEZONE
BEGIN:VEVENT
UID:b2578b02-9425-4057-9366-8d4743b072c9
DTSTAMP:20260421T234509Z
DESCRIPTION:Are you struggling with challenging behaviors occurring in the 
 classroom? Do you feel you could use some strategies on classroom manageme
 nt? Join us to learn more about why children exhibit challenging behaviors
  and how you can develop strategies to ease them by utilizing classroom ma
 nagement techniques.\n\nTarget Audience: FG\, PS\, IT\, LE\nTrainer: Jenny
  Spampinato \nComponent Areas:\nOCFS: 1\, 3\nCBK: 1\, 4\nCDA: F\, L\nFee: 
 $20 members/ $75 non-members\nRegister by calling (845) 425-0009 x0.\n\nPa
 yment is required upon registration and a confirmation of payment will be 
 emailed to you. A reimbursement check will be issued after completion of t
 he class.
DTSTART;TZID=America/New_York:20250311T183000
DTEND;TZID=America/New_York:20250311T203000
LOCATION:40 Ramland Road\, Suite 209\, Orangeburg\, NY 10962 US
SUMMARY:All Behaviors Communicate: Addressing Challenging Behaviors While M
 aintaining Classroom Management
END:VEVENT
END:VCALENDAR
