BEGIN:VCALENDAR
VERSION:2.0
PRODID:-//childcarerockland.org//NONSGML kigkonsult.se iCalcreator 2.30.10/
 /
CALSCALE:GREGORIAN
METHOD:PUBLISH
UID:6a46bddf-48c4-436a-ae96-b6e7fc782673
X-WR-CALDESC:A review of class materials online and a meeting with the trai
 ner to review and practice prior to testing session\, which includes the M
 AT Demonstration Competencies and a written exam. You must review the mate
 rials. Failure to review may result in rescheduling and additional fees.\n
 A certificate for eight training hours will be issued after completion.\nP
 articipants are eligible for a rebate from SUNY Albany Professional Develo
 pment Program.\nContact SUNY for rebate information : (866) 295-9616\n\nTa
 rget Audience: All\nTrainer: Christie Cinquemani\nLevel: All\nOCFS: 2\, 3\
 , 4\, 7\nCBK: 5\, 6\, 7\nCDA: A\, B\nFee: $160 members/ $210 non-members* 
 Rebate: $70\n\nIMPORTANT! REGISTRATION PROCEDURE FOR MAT! \nTo register yo
 u must first create an account with The Early Childhood Professional Devel
 opment Program (PDP) \nand then register here: www. ecetp.pdp.albany.edu\n
 \nPayment is required upon registration and a confirmation of payment will
  be emailed to you. A reimbursement check will be issued after completion 
 of the class.
X-WR-RELCALID:b59772fb4283c5209fb181d37f89b5bf
X-WR-TIMEZONE:America/New_York
BEGIN:VTIMEZONE
TZID:America/New_York
BEGIN:STANDARD
TZNAME:EST
DTSTART:20241103T020000
TZOFFSETFROM:-0400
TZOFFSETTO:-0500
RDATE:20251102T020000
END:STANDARD
BEGIN:DAYLIGHT
TZNAME:EDT
DTSTART:20240310T020000
TZOFFSETFROM:-0500
TZOFFSETTO:-0400
RDATE:20250309T020000
RDATE:20260308T020000
END:DAYLIGHT
END:VTIMEZONE
BEGIN:VEVENT
UID:e5c62a6d-9152-4ae1-8c04-f161c559e751
DTSTAMP:20260421T233917Z
DESCRIPTION:A review of class materials online and a meeting with the train
 er to review and practice prior to testing session\, which includes the MA
 T Demonstration Competencies and a written exam. You must review the mater
 ials. Failure to review may result in rescheduling and additional fees.\nA
  certificate for eight training hours will be issued after completion.\nPa
 rticipants are eligible for a rebate from SUNY Albany Professional Develop
 ment Program.\nContact SUNY for rebate information : (866) 295-9616\n\nTar
 get Audience: All\nTrainer: Christie Cinquemani\nLevel: All\nOCFS: 2\, 3\,
  4\, 7\nCBK: 5\, 6\, 7\nCDA: A\, B\nFee: $160 members/ $210 non-members* R
 ebate: $70\n\nIMPORTANT! REGISTRATION PROCEDURE FOR MAT! \nTo register you
  must first create an account with The Early Childhood Professional Develo
 pment Program (PDP) \nand then register here: www. ecetp.pdp.albany.edu\n
 \nPayment is required upon registration and a confirmation of payment will
  be emailed to you. A reimbursement check will be issued after completion 
 of the class.
DTSTART;TZID=America/New_York:20250306T100000
DTEND;TZID=America/New_York:20250306T140000
LOCATION:40 Ramland Road\, Suite 209\, Orangeburg\, NY 10962 US
SUMMARY:Medication Administration Training (MAT) Independent Study
END:VEVENT
END:VCALENDAR
