BEGIN:VCALENDAR
VERSION:2.0
PRODID:-//childcarerockland.org//NONSGML kigkonsult.se iCalcreator 2.30.10/
 /
CALSCALE:GREGORIAN
METHOD:PUBLISH
UID:d59a0a84-1fe0-4dcf-bd08-6acfde15d85d
X-WR-CALDESC:If you renewed your MAT certification twice consecutively onli
 ne\, you will need to have your skills assessed by a MAT trainer to comple
 te your third renewal. You will take the online renewal first and then mee
 t with the MAT trainer to be tested on the three MAT Demonstration Compete
 ncies: Liquid Measure\, Randomized Skills and the administration of the ep
 inephrine auto-injectors (EpiPen and Auvi-Q). A certificate for one traini
 ng hour will be issued after completion.\nParticipants are eligible for a 
 rebate from SUNY Albany Professional Development Program.\nContact SUNY fo
 r rebate information : (866) 295-9616\n\nTarget Audience: All\nTrainer: Ch
 ristie Cinquemani\nLevel: All\nOCFS: 2\, 3\, 4\, 7\nCBK: 5\, 6\, 7\nCDA: A
 \, B\nFee: $150 members/ $200 non-members * Rebate: $150\n\nIMPORTANT! REG
 ISTRATION PROCEDURE FOR MAT!\nTo register you must first create an account
  with The Early Childhood Professional Development Program (PDP)\nand then
  register here: www. ecetp.pdp.albany.edu\n\nPayment is required upon regi
 stration and a confirmation of payment will be emailed to you. A reimburse
 ment check will be issued after completion of the class.
X-WR-RELCALID:9b3ca4f37a2e5f012abbeabc3ccc2dcf
X-WR-TIMEZONE:America/New_York
BEGIN:VTIMEZONE
TZID:America/New_York
BEGIN:STANDARD
TZNAME:EST
DTSTART:20241103T020000
TZOFFSETFROM:-0400
TZOFFSETTO:-0500
RDATE:20251102T020000
END:STANDARD
BEGIN:DAYLIGHT
TZNAME:EDT
DTSTART:20240310T020000
TZOFFSETFROM:-0500
TZOFFSETTO:-0400
RDATE:20250309T020000
RDATE:20260308T020000
END:DAYLIGHT
END:VTIMEZONE
BEGIN:VEVENT
UID:1682eeb5-4ccd-4e70-94a9-bc4ff686c3d2
DTSTAMP:20260422T011931Z
DESCRIPTION:If you renewed your MAT certification twice consecutively onlin
 e\, you will need to have your skills assessed by a MAT trainer to complet
 e your third renewal. You will take the online renewal first and then meet
  with the MAT trainer to be tested on the three MAT Demonstration Competen
 cies: Liquid Measure\, Randomized Skills and the administration of the epi
 nephrine auto-injectors (EpiPen and Auvi-Q). A certificate for one trainin
 g hour will be issued after completion.\nParticipants are eligible for a r
 ebate from SUNY Albany Professional Development Program.\nContact SUNY for
  rebate information : (866) 295-9616\n\nTarget Audience: All\nTrainer: Chr
 istie Cinquemani\nLevel: All\nOCFS: 2\, 3\, 4\, 7\nCBK: 5\, 6\, 7\nCDA: A\
 , B\nFee: $150 members/ $200 non-members * Rebate: $150\n\nIMPORTANT! REGI
 STRATION PROCEDURE FOR MAT!\nTo register you must first create an account 
 with The Early Childhood Professional Development Program (PDP)\nand then 
 register here: www. ecetp.pdp.albany.edu\n\nPayment is required upon regis
 tration and a confirmation of payment will be emailed to you. A reimbursem
 ent check will be issued after completion of the class.
DTSTART;TZID=America/New_York:20250219T100000
DTEND;TZID=America/New_York:20250219T140000
LOCATION:40 Ramland Road\, Suite 209\, Orangeburg\, NY 10962 US
SUMMARY:Competency Testing: 3rd Time Renewal / MAT Skills Renewal
END:VEVENT
END:VCALENDAR
