BEGIN:VCALENDAR
VERSION:2.0
PRODID:-//childcarerockland.org//NONSGML kigkonsult.se iCalcreator 2.30.10/
 /
CALSCALE:GREGORIAN
METHOD:PUBLISH
UID:c3c364c9-e86a-4d2d-8543-e48200cf63f1
X-WR-CALDESC:In observance of President's Day.
X-WR-RELCALID:ecae450dbc3abfd29e915dbeb2398c9d
X-WR-TIMEZONE:America/New_York
BEGIN:VTIMEZONE
TZID:America/New_York
BEGIN:STANDARD
TZNAME:EST
DTSTART:20241103T020000
TZOFFSETFROM:-0400
TZOFFSETTO:-0500
RDATE:20251102T020000
END:STANDARD
BEGIN:DAYLIGHT
TZNAME:EDT
DTSTART:20240310T020000
TZOFFSETFROM:-0500
TZOFFSETTO:-0400
RDATE:20250309T020000
RDATE:20260308T020000
END:DAYLIGHT
END:VTIMEZONE
BEGIN:VEVENT
UID:6f845196-ee30-4d6c-9f07-0ca077748514
DTSTAMP:20260422T012257Z
DESCRIPTION:In observance of President's Day.
DTSTART;TZID=America/New_York:20250217T083000
DTEND;TZID=America/New_York:20250217T170000
LOCATION:40 Ramland Road\, Suite 209\, Orangeburg\, NY 10962 US
SUMMARY:CCRR Office Closed
END:VEVENT
END:VCALENDAR
