BEGIN:VCALENDAR
VERSION:2.0
PRODID:-//childcarerockland.org//NONSGML kigkonsult.se iCalcreator 2.30.10/
 /
CALSCALE:GREGORIAN
METHOD:PUBLISH
UID:19a93b5c-a727-44b9-b9c5-79748af64e63
X-WR-CALDESC:The Child and Adult Care Food Program (CACFP) is federally fun
 ded and administered by the NYS Department of Health to reimburse home-bas
 ed child care providers. Attend a Mandatory Training. In order to remain i
 n compliance you must attend one Mandatory CACFP Training annually.\n\nTar
 get Audience: FG\nTrainer: Chantel Pittman\nFee: Free\n\nFunding is provid
 ed by the Child and Adult Care Food Program (CACFP)\n\n*Once registered\, 
 the Zoom link will be emailed to you.
X-WR-RELCALID:b00e71bbb60c1da74bcb2f32e66cb4b8
X-WR-TIMEZONE:America/New_York
BEGIN:VTIMEZONE
TZID:America/New_York
BEGIN:STANDARD
TZNAME:EST
DTSTART:20241103T020000
TZOFFSETFROM:-0400
TZOFFSETTO:-0500
RDATE:20251102T020000
END:STANDARD
BEGIN:DAYLIGHT
TZNAME:EDT
DTSTART:20240310T020000
TZOFFSETFROM:-0500
TZOFFSETTO:-0400
RDATE:20250309T020000
RDATE:20260308T020000
END:DAYLIGHT
END:VTIMEZONE
BEGIN:VEVENT
UID:526dfd05-9068-4b72-bf2f-5226338be5d4
DTSTAMP:20260422T012552Z
DESCRIPTION:The Child and Adult Care Food Program (CACFP) is federally fund
 ed and administered by the NYS Department of Health to reimburse home-base
 d child care providers. Attend a Mandatory Training. In order to remain in
  compliance you must attend one Mandatory CACFP Training annually.\n\nTarg
 et Audience: FG\nTrainer: Chantel Pittman\nFee: Free\n\nFunding is provide
 d by the Child and Adult Care Food Program (CACFP)\n\n*Once registered\, t
 he Zoom link will be emailed to you.
DTSTART;TZID=America/New_York:20250213T173000
DTEND;TZID=America/New_York:20250213T193000
LOCATION:via Zoom
SUMMARY:CACFP Mandato﻿ry Training for Home-Based Providers
END:VEVENT
END:VCALENDAR
