BEGIN:VCALENDAR
VERSION:2.0
PRODID:-//childcarerockland.org//NONSGML kigkonsult.se iCalcreator 2.30.10/
 /
CALSCALE:GREGORIAN
METHOD:PUBLISH
UID:a6791a50-af87-4c4a-9254-077717086fbc
X-WR-CALDESC:NYS OCFS regulations for all modalities require that every pro
 gram have a person certified in CPR and First Aid on-site at all times. Ce
 rtification is valid for 2 years. As per ARC policy\, we are unable to adm
 it anyone into the class once it has begun. Please be on time! Limited to 
 5 participants. Eligible for EIP Funding.\nPlease note: Community CPR and 
 the Community First Aid\, as a bundle\, are offered together and completed
  in one session. AED training is included.\n\nTarget Audience: All\nTraine
 r: Christie Cinquemani\nOCFS: 4\nFee: $150 members/ $200 non-members\nRegi
 ster by calling (845) 425-0009 x0.\n\nPayment is required upon registratio
 n and a confirmation of payment will be emailed to you. A reimbursement ch
 eck will be issued after completion of the class.\n
X-WR-RELCALID:589d33ebf57f305d16a8ec5fd8c10471
X-WR-TIMEZONE:America/New_York
BEGIN:VTIMEZONE
TZID:America/New_York
BEGIN:STANDARD
TZNAME:EST
DTSTART:20241103T020000
TZOFFSETFROM:-0400
TZOFFSETTO:-0500
RDATE:20251102T020000
END:STANDARD
BEGIN:DAYLIGHT
TZNAME:EDT
DTSTART:20240310T020000
TZOFFSETFROM:-0500
TZOFFSETTO:-0400
RDATE:20250309T020000
RDATE:20260308T020000
END:DAYLIGHT
END:VTIMEZONE
BEGIN:VEVENT
UID:14781651-6e81-450d-bfdb-6d9651ad7077
DTSTAMP:20260422T012459Z
DESCRIPTION:NYS OCFS regulations for all modalities require that every prog
 ram have a person certified in CPR and First Aid on-site at all times. Cer
 tification is valid for 2 years. As per ARC policy\, we are unable to admi
 t anyone into the class once it has begun. Please be on time! Limited to 5
  participants. Eligible for EIP Funding.\nPlease note: Community CPR and t
 he Community First Aid\, as a bundle\, are offered together and completed 
 in one session. AED training is included.\n\nTarget Audience: All\nTrainer
 : Christie Cinquemani\nOCFS: 4\nFee: $150 members/ $200 non-members\nRegis
 ter by calling (845) 425-0009 x0.\n\nPayment is required upon registration
  and a confirmation of payment will be emailed to you. A reimbursement che
 ck will be issued after completion of the class.\n
DTSTART;TZID=America/New_York:20250213T100000
DTEND;TZID=America/New_York:20250213T150000
LOCATION:40 Ramland Road\, Suite 209\, Orangeburg\, AL 10962 US
SUMMARY:American Red Cross: CPR and First Aid Bundle
END:VEVENT
END:VCALENDAR
