BEGIN:VCALENDAR
VERSION:2.0
PRODID:-//childcarerockland.org//NONSGML kigkonsult.se iCalcreator 2.30.10/
 /
CALSCALE:GREGORIAN
METHOD:PUBLISH
UID:0532a671-72c6-4eff-a217-3128a7d5259e
X-WR-CALDESC:Strong positive relationships between teachers in the classroo
 m setting are crucial and foundational for providing a smooth running\, su
 stainable classroom. Having a professional approach can elevate tensions i
 n the classroom that students pick up on. By having clear systems and proc
 edures in place\, classroom staff can plan ahead appropriately and positiv
 ely while working together in collaboration.\n\nTarget Audience: All\nTrai
 ner: Jenny Spampinato\nComponent Areas:\nOCFS: 3\, 5\nCBK: 6\, 7\nCDA: F\,
  L\, M\nFee: $20 members/ $75 non-members\nRegister by calling (845) 425-0
 009 x0.\n\nPayment is required upon registration and a confirmation of pay
 ment will be emailed to you. A reimbursement check will be issued after co
 mpletion of the class.
X-WR-RELCALID:b00cc36edba0f44d97ebb626ffed2171
X-WR-TIMEZONE:America/New_York
BEGIN:VTIMEZONE
TZID:America/New_York
BEGIN:STANDARD
TZNAME:EST
DTSTART:20241103T020000
TZOFFSETFROM:-0400
TZOFFSETTO:-0500
RDATE:20251102T020000
END:STANDARD
BEGIN:DAYLIGHT
TZNAME:EDT
DTSTART:20240310T020000
TZOFFSETFROM:-0500
TZOFFSETTO:-0400
RDATE:20250309T020000
RDATE:20260308T020000
END:DAYLIGHT
END:VTIMEZONE
BEGIN:VEVENT
UID:6e58779c-d915-48c7-baf6-c4397bbce429
DTSTAMP:20260422T012459Z
DESCRIPTION:Strong positive relationships between teachers in the classroom
  setting are crucial and foundational for providing a smooth running\, sus
 tainable classroom. Having a professional approach can elevate tensions in
  the classroom that students pick up on. By having clear systems and proce
 dures in place\, classroom staff can plan ahead appropriately and positive
 ly while working together in collaboration.\n\nTarget Audience: All\nTrain
 er: Jenny Spampinato\nComponent Areas:\nOCFS: 3\, 5\nCBK: 6\, 7\nCDA: F\, 
 L\, M\nFee: $20 members/ $75 non-members\nRegister by calling (845) 425-00
 09 x0.\n\nPayment is required upon registration and a confirmation of paym
 ent will be emailed to you. A reimbursement check will be issued after com
 pletion of the class.
DTSTART;TZID=America/New_York:20250211T183000
DTEND;TZID=America/New_York:20250211T203000
LOCATION:40 Ramland Road\, Suite 209\, Orangeburg\, NY 10962 US
SUMMARY:Let’s Shake Hands: How to Maintain Professional Staff Relations
END:VEVENT
END:VCALENDAR
