BEGIN:VCALENDAR
VERSION:2.0
PRODID:-//childcarerockland.org//NONSGML kigkonsult.se iCalcreator 2.30.10/
 /
CALSCALE:GREGORIAN
METHOD:PUBLISH
UID:89611589-38a8-4719-8638-d586fa9c5238
X-WR-CALDESC:This information session will help participants learn more abo
 ut what it takes to open a child care center. Topics will include question
 s to consider\, a description of the licensing process\, and how to use OC
 FS regulations as a guide. There will be time for Q & A so please bring yo
 ur questions.\nTarget Audience: All\nTrainer: Angela Reyes\nFee: Free\n\nC
 ertificates will not be issued.\n
X-WR-RELCALID:17089fcbda58e432a79af7779516de6d
X-WR-TIMEZONE:America/New_York
BEGIN:VTIMEZONE
TZID:America/New_York
BEGIN:STANDARD
TZNAME:EST
DTSTART:20241103T020000
TZOFFSETFROM:-0400
TZOFFSETTO:-0500
RDATE:20251102T020000
END:STANDARD
BEGIN:DAYLIGHT
TZNAME:EDT
DTSTART:20240310T020000
TZOFFSETFROM:-0500
TZOFFSETTO:-0400
RDATE:20250309T020000
RDATE:20260308T020000
END:DAYLIGHT
END:VTIMEZONE
BEGIN:VEVENT
UID:1c8b1881-3207-48c6-ad76-4bb615eb1ebd
DTSTAMP:20260422T012411Z
DESCRIPTION:This information session will help participants learn more abou
 t what it takes to open a child care center. Topics will include questions
  to consider\, a description of the licensing process\, and how to use OCF
 S regulations as a guide. There will be time for Q & A so please bring you
 r questions.\nTarget Audience: All\nTrainer: Angela Reyes\nFee: Free\n\nCe
 rtificates will not be issued.\n
DTSTART;TZID=America/New_York:20250204T130000
DTEND;TZID=America/New_York:20250204T143000
LOCATION:40 Ramland Road\, Suite 209\, Orangeburg\, AL 10962 US
SUMMARY:So…You Want to Open a Child Care Center (Information Session)
END:VEVENT
END:VCALENDAR
